BEGIN:VCALENDAR
VERSION:2.0
PRODID:http://www.pfarrei-schweicher-land.de
BEGIN:VEVENT
UID:ce4a630f-3e16-11f1-a3e9-0242ac11002b-1780065000000-de
DTSTAMP:20260422T064509Z
DTSTART:20260529T143000Z
DTEND:20260529T170000Z
SUMMARY;LANGUAGE=de:Kuckuck, Käfer, Kräuter  im Wald gibt´s mehr als Bäume
DESCRIPTION;LANGUAGE=de:Die Katholische Erwachsenenbildung\, Themenschwerpunkt Schöpfung und das Forstamt Trier laden ein zu einer Exkursion im Rahmen der Woche der Artenvielfalt. Anmeldefrist: bis 21.05.2026
IMAGE;VALUE=URI;DISPLAY=BADGE;FMTTYPE=image/jpeg:http://www.pfarrei-schweicher-land.de/export/sites/pfarreien/pfarreiengemeinschaft-schweich/.galleries/Pfarrei-Schweicher-Land-Plakate/2026-05-29-Fl-Artenvielfalt-min-1.jpg
END:VEVENT
END:VCALENDAR
