BEGIN:VCALENDAR
VERSION:2.0
PRODID:http://www.pfarrei-schweicher-land.de
BEGIN:VEVENT
UID:966575a3-3fb8-11f1-a3e9-0242ac11002b-1780956000000-de
DTSTAMP:20260424T083545Z
DTSTART:20260608T220000Z
DTEND:20260609T220000Z
SUMMARY;LANGUAGE=de:Maiandacht am Heilbrunnen für Seniorinnen und Senioren
DESCRIPTION;LANGUAGE=de:Erster gemeinsamer Nachmittag der Seniorinnen und Senioren der Pfarrei Schweicher Land St. Martinus
END:VEVENT
END:VCALENDAR
