BEGIN:VCALENDAR
VERSION:2.0
PRODID:http://www.pfarrei-schweicher-land.de
BEGIN:VEVENT
UID:751db207-3fca-11f1-a3e9-0242ac11002b-1780072200000-de
DTSTAMP:20260424T104340Z
DTSTART:20260529T163000Z
SUMMARY;LANGUAGE=de:Musikalische Maiandacht zum Abschluss des Maimonats
DESCRIPTION;LANGUAGE=de:Zum feierlichen Abschluss des Marienmonats Mai lädt der Kirchenchor "Cäcilia" 1789 Kenn herzlich zu einer musikalischen Maiandacht ein.
LOCATION;LANGUAGE=de:Kirche St. Margareta Kenn\,
IMAGE;VALUE=URI;DISPLAY=BADGE;FMTTYPE=image/jpeg:http://www.pfarrei-schweicher-land.de/export/sites/pfarreien/pfarreiengemeinschaft-schweich/.galleries/Kirchen/DSC07997.jpg
END:VEVENT
END:VCALENDAR
